BEGIN:VCALENDAR
VERSION:2.0
PRODID:-//Unique Academy - ECPv6.2.1//NONSGML v1.0//EN
CALSCALE:GREGORIAN
METHOD:PUBLISH
X-ORIGINAL-URL:https://promozsquare.com/unique
X-WR-CALDESC:Events for Unique Academy
REFRESH-INTERVAL;VALUE=DURATION:PT1H
X-Robots-Tag:noindex
X-PUBLISHED-TTL:PT1H
BEGIN:VTIMEZONE
TZID:UTC
BEGIN:STANDARD
TZOFFSETFROM:+0000
TZOFFSETTO:+0000
TZNAME:UTC
DTSTART:20230101T000000
END:STANDARD
END:VTIMEZONE
BEGIN:VEVENT
DTSTART;TZID=UTC:20230915T080000
DTEND;TZID=UTC:20230915T170000
DTSTAMP:20260423T060805
CREATED:20230911T181746Z
LAST-MODIFIED:20230911T181805Z
UID:4258-1694764800-1694797200@promozsquare.com
SUMMARY:Become a Cyber Smart Women
DESCRIPTION:Exclusive Cyber Security Awareness Workshop of Women in Tanzania. \n  \nWorkshop Registration Form \nRegister here https://forms.gle/L8GHcySMAzzqvsov9
URL:https://promozsquare.com/unique/event/become-a-cyber-smart-women/
CATEGORIES:Workshops
ATTACH;FMTTYPE=image/png:https://promozsquare.com/unique/wp-content/uploads/2023/08/20-Women-Scholarship-1.png
END:VEVENT
BEGIN:VEVENT
DTSTART;TZID=UTC:20230911T080000
DTEND;TZID=UTC:20230911T170000
DTSTAMP:20260423T060805
CREATED:20230911T164815Z
LAST-MODIFIED:20230911T190121Z
UID:4158-1694419200-1694451600@promozsquare.com
SUMMARY:Digital Tanzania Programme (DTP)  
DESCRIPTION:Elementor events widget addon provides a fully responsive template design that ensures your events list looks great on any device\, and advanced style settings that make it easy to customize the look and feel of your events list to meet your specific requirements. It allows you to elevate the design of your events calendar and make it more engaging and professional-looking\, aligning with your website style and needs.
URL:https://promozsquare.com/unique/event/4158/
CATEGORIES:Workshops
ATTACH;FMTTYPE=image/jpeg:https://promozsquare.com/unique/wp-content/uploads/2023/09/Submit-Opportunity-Card-Image-3-scaled.jpg
END:VEVENT
END:VCALENDAR